Workbook
Name Data_Situation_Sensistivity_Score: Evaluation!$I$2
Name Summary_Risk_Score: Evaluation!$I$3

Sheet Version update notes
A1: Version 1.2.1
A2: Fixed Bug where question 4 on the summary risk sheet converted to date format when opened in Teams.

Sheet Agreement (consent)Sensitivity 
B2: Question | C2: Response | D2: Score
B3: 1. Are the data subjects aware that their data have been collected in the first place? | D3: =IF(C3="","",IF(C3="Yes",0,1))
B4: 2. Have the data subjects agreed (explicitly or implicitly) to the collection of their data? | D4: =IF(C4="","",IF(C4="Yes",0,1))
B5: 3. Were the data subjects completely free to agree to the collection of their data (or have they agreed to collection because they want something (a good or service) for which are required to hand over some data before they can obtain it)? | D5: =IF(C5="","",IF(C5="Yes",0,1))
B6: 4. Are the data subjects aware of the original use of their data? | D6: =IF(C6="","",IF(C6="Yes",0,1))
B7: 5. Have the data subjects agreed (explicitly or implicitly) to the original use of their data? | D7: =IF(C7="","",IF(C7="Yes",0,1))
B8: 6. Have the data subjects agreed in general to the sharing of a functionally anonymised version of their data? | D8: =IF(C8="","",IF(OR(C8="Yes",C8="Not Applicable"),0,1))
B9: 7. Are the data subjects aware of the specific organisations that you are sharing a functionally anonymised version of their data with? | D9: =IF(C9="","",IF(OR(C9="Yes",C9="Not Applicable"),0,1))
B10: 8. Have they agreed to your sharing their data with those organisations? | D10: =IF(C10="","",IF(OR(C10="Yes",C10="Not Applicable"),0,1))
B11: 9. Are the data subjects aware of the particular use to which their functionally anonymised data are being put? | D11: =IF(C11="","",IF(C11="Yes",0,1))
B12: 10. Have they agreed to those uses? | D12: =IF(C12="","",IF(C12="Yes",0,1))
B13: =IF(COUNTBLANK(C3:C12)=0,"Total Agreement Sensitivity Score","Please respond to all questions") -> Please respond to all questions | D13: =IF(COUNTBLANK(D3:D12)>0,"",SUM(D3:D12))

Sheet Expectation Sensitivity
B2: Question | C2: Response | D2: Score
B3: 1. Do you (the sending organisation) have a relationship with the data subjects such that a reasonable data subject would expect you to have access to their data? | D3: =IF(C3="","",IF(C3="Yes",0,1))
B4: 2. Does the receiving organisation have a relationship with the data subjects such that a reasonable data subject would expect them to have access to their data?? | D4: =IF(C4="","",IF(C4="Yes",0,1))
B5: 3. Is the receiving organisation a government or commercial entity? | D5: =IF(C5="","",IF(C5="No",0,1))
B6: 4. Is your organisation’s area of work one where trust is operationally important (e.g. health or education)? | D6: =IF(C6="","",IF(C6="No",0,1))
B7: 5. Will you receive financial or commercial benefit from the data share? | D7: =IF(C7="","",IF(C7="No",0,1))
B8: 6. Is there an actual or likely perceived imbalance of benefit arising from the proposed share or release? E.g. is the data controller benefiting but the data subjects not? | D8: =IF(C8="","",IF(C8="No",0,1))
B9: =IF(COUNTBLANK(C3:C8)=0,"Total Expectation Sensitivity Score","Please respond to all questions") -> Please respond to all questions | D9: =IF(COUNTBLANK(D3:D8)>0,"",SUM(D3:D8))

Sheet Data Sensitivity
B2: Question | C2: Response | D2: Score
B3: 1. Are some of the variables sensitive? | D3: =IF(C3="","",IF(C3="No",0,2))
B4: 2. Are the data about a vulnerable population? | D4: =IF(C4="","",IF(C4="No",0,2))
B5: 3. Are the data about a sensitive topic? | D5: =IF(C5="","",IF(C5="No",0,2))
B6: 4. Is the use of the data likely to be considered sensitive? | D6: =IF(C6="","",IF(C6="No",0,2))
B7: 5. Do you have reason to believe that the intended use of the data might lead to discrimination against the data subjects or a group of which they are members? | D7: =IF(C7="","",IF(C7="No",0,2))
B8: =IF(COUNTBLANK(C3:C7)=0,"Total Data Sensitivity Score","Please respond to all questions") -> Please respond to all questions | D8: =IF(COUNTBLANK(D3:D7)>0,"",SUM(D3:D7))

Sheet Desensitising Factors
B2: Question | C2: Response | D2: Score
B3: 1. Will there be some public benefit arising from the downstream use of the data? | D3: =IF(C3="","",IF(C3="Yes",-3,0))
B4: 2. Have you carried consultations with groups of stakeholders (particularly the general public and/or data subjects) | D4: =IF(C4="","",IF(C4="Yes",-3,0))
B5: 3. Have you carried consultations with groups of stakeholders (particularly the general public and/or data subjects) and implemented the recommendations arising there from? | D5: =IF(C5="","",IF(C5="Yes",-10,3))
B6: 4. Does your communication plan engender trustworthiness through transparency (sufficient to offset adverse responses in the expectation sensitivity section)? | D6: =IF(C6="","",IF(C6="Yes",-5,0))
B7: =IF(COUNTBLANK(C3:C6)=0,"Total Desensitising Factors Score","Please respond to all questions") -> Please respond to all questions | D7: =IF(COUNTBLANK(D3:D6)>0,"",SUM(D3:D6))

Sheet Summary Risk
B2: Question | C2: Response | D2: Score
B3: 1. Are the data of high quality? | D3: =IF(C3="","",VLOOKUP(C3,codes!A6:B9,2,FALSE))
B4: 2. How old are the data? | D4: =IF(C4="","",VLOOKUP(C4,codes!A11:B15,2,FALSE))
B5: 3. Do the data constitute a whole population or a sample? | D5: =IF(C5="","",VLOOKUP(C5,codes!A17:B19,2,FALSE))
B6: 4. How many variables are there that fall within the standard key variable sets? | D6: =IF(C6="","",VLOOKUP(C6,codes!A21:B24,2,FALSE))
B7: 5. Which of the following best describes the data? | D7: =IF(C7="","",VLOOKUP(C7,codes!A26:B32,2,FALSE))
B8: 6. Do the data include any data types that present particular reidentifiability challenges (e.g. genomics data, photographs, significant text narratives, timestamped location data or other timestamped sequences? | D8: =IF(C8="","",IF(C8="No",0,10))
B9: 7. Now considering the details of the focal environment, which of the following best describes that environment? | D9: =IF(C9="","",VLOOKUP(C9,codes!A34:B40,2,FALSE))
B10: 8. Are there data in - or which could be moved into - the focal environment that could be used to re-identify any data subjects in the data? | D10: =IF(C10="","",IF(C10="No",0,10))
B11: Value Imputed from Data Sensitivity Sheet | D11: =IF('Data Sensitivity'!D8="","",'Data Sensitivity'!D8/2)
B12: =IF(D12="","Please Respond to all questions","Summary Risk Score") -> Please Respond to all questions | D12: =IF(COUNTBLANK(D3:D11)>0,"",SUM(D3:D11))

Sheet Evaluation
D1: -50 | E1: 5 | F1: 11
D2: Data situation sensitivity | H2: Data Situation Sensistivity Score | I2: =IF(OR('Agreement (consent)Sensitivity '!D13="",'Expectation Sensitivity'!D9="",'Data Sensitivity'!D8="",'Desensitising Factors'!D7=""),"", SUM('Agreement (consent)Sensitivity '!D13,'Expectation Sensitivity'!D9,'Data Sensitivity'!D8,'Desensitising Factors'!D7))
D3: Low | E3: Medium | F3: High | H3: Summary Risk Score | I3: =IF('Summary Risk'!D12="","",'Summary Risk'!D12)
A4: 6 | B4: Summary risk | C4: High | D4: =IF(AND(Data_Situation_Sensistivity_Score>=D$1,Data_Situation_Sensistivity_Score<=D$7,Summary_Risk_Score>=$A4,Summary_Risk_Score<=$G4),"X","") | E4: =IF(AND(Data_Situation_Sensistivity_Score>=E$1,Data_Situation_Sensistivity_Score<=E$7,Summary_Risk_Score>=$A4,Summary_Risk_Score<=$G4),"X","") | F4: =IF(AND(Data_Situation_Sensistivity_Score>=F$1,Data_Situation_Sensistivity_Score<=F$7,Summary_Risk_Score>=$A4,Summary_Risk_Score<=$G4),"X","") | G4: 50
A5: 1 | C5: Medium | D5: =IF(AND(Data_Situation_Sensistivity_Score>=D$1,Data_Situation_Sensistivity_Score<=D$7,Summary_Risk_Score>=$A5,Summary_Risk_Score<=$G5),"X","") | E5: =IF(AND(Data_Situation_Sensistivity_Score>=E$1,Data_Situation_Sensistivity_Score<=E$7,Summary_Risk_Score>=$A5,Summary_Risk_Score<=$G5),"X","") | F5: =IF(AND(Data_Situation_Sensistivity_Score>=F$1,Data_Situation_Sensistivity_Score<=F$7,Summary_Risk_Score>=$A5,Summary_Risk_Score<=$G5),"X","") | G5: 5 | H5: =IF(OR(Summary_Risk_Score="",Data_Situation_Sensistivity_Score=""),"Evaluation is not possible as you have not responded to all questions yet","") -> Evaluation is not possible as you have not responded to all questions yet
A6: -25 | C6: Negligible | D6: =IF(AND(Data_Situation_Sensistivity_Score>=D$1,Data_Situation_Sensistivity_Score<=D$7,Summary_Risk_Score>=$A6,Summary_Risk_Score<=$G6),"X","") | E6: =IF(AND(Data_Situation_Sensistivity_Score>=E$1,Data_Situation_Sensistivity_Score<=E$7,Summary_Risk_Score>=$A6,Summary_Risk_Score<=$G6),"X","") | F6: =IF(AND(Data_Situation_Sensistivity_Score>=F$1,Data_Situation_Sensistivity_Score<=F$7,Summary_Risk_Score>=$A6,Summary_Risk_Score<=$G6),"X","") | G6: 0
D7: 4 | E7: 10 | F7: 100
B9: Essential | C9: The summary risk and/or the data situation sensitivity are elevated and therefore risk assessment and control processes are going to be needed.
B10: Borderline | C10: You should consider carrying out a more detailed disclsoure risk assessment (and/or taking action to reduce the data situation sensitivity). Go to compoent 7.
B11: Unnecessary | C11: No imediate further action is necessary now but continue to monitor the data sitauation. Go to component 8.

Sheet codes
A1: Yes
A2: No
A3: Don’t Know
A4: Not Applicable
A6: Yes, the data are clean and contain no or minimal errors and no or minimal missing data. | B6: 2
A7: The data contained errors but have been cleaned. | B7: 1
A8: The data contains some errors and or missing data. | B8: 1
A9: The data are dirty - they contain many errors and missing data issues. | B9: 0
A11: Less than 1 year | B11: 5
A12: 1-5 years | B12: 4
A13: 5-10 years | B13: 3
A14: 10-20 years | B14: 2
A15: More than 20 years old | B15: 0
A17: Population | B17: 5
A18: Sub-Population | B18: 4
A19: Sample | B19: 0
A21: 0 | B21: 0
A22: 1-4 | B22: 1
A23: 5-9 | B23: 4
A24: 10+ | B24: 5
A26: A single aggregate output | B26: 0
A27: A set of aggregate outputs which do not overlap | B27: 1
A28: A set of aggregate outputs which do overlap | B28: 4
A29: Flat microdata | B29: 4
A30: Hierarchical but not longitudinal microdata | B30: 7
A31: Longitudinal but not hierarchical microdata | B31: 7
A32: Hierarchical and longitudinal microdata | B32: 10
A34: It is a remote analysis server where users may submit code for analyses but are not able to directly access the data. Code and output are checked before the outputs are released to the user. | B34: -25
A35: It is a secure facility with on-site access with limited personnel being able to access the data that is housed within the data controller’s infrastructure. | B35: -25
... A40: The environment is open or quasi-open (with minimal sign up conditions). | B40: 0
